BEGIN:VCALENDAR
VERSION:2.0
PRODID:spatie/icalendar-generator
DESCRIPTION:Events from EJE NO PENAL
X-WR-CALDESC:Events from EJE NO PENAL
REFRESH-INTERVAL;VALUE=DURATION:PT1440M
X-PUBLISHED-TTL:PT1440M
BEGIN:VTIMEZONE
TZID:Etc/GMT+5
BEGIN:STANDARD
DTSTART:20211204T092000Z
TZOFFSETFROM:-0500
TZOFFSETTO:-0500
END:STANDARD
END:VTIMEZONE
BEGIN:VTIMEZONE
TZID:UTC
BEGIN:STANDARD
DTSTART:20250725T104359Z
TZOFFSETFROM:+0000
TZOFFSETTO:+0000
END:STANDARD
END:VTIMEZONE
BEGIN:VEVENT
UID:215-177
DTSTAMP:20260421T104359Z
SUMMARY:Visita del Sr. RUT ANDIA CHAVEZ
LOCATION:EJE NO PENAL Jr. Roberto RamÍrez del Villar Nº 325  Lima Lima Co
 rpac
ORGANIZER;CN=ejejudiperulima:MAILTO:administracion@sig.pe
DTSTART;TZID=Etc/GMT+5:20220831T092000
DTEND;TZID=Etc/GMT+5:20220831T153900
X-ALT-DESC;FMTTYPE=TEXT/HTML:<p>Participación en rueda de negocios<br />\n
 Institución proveniente: Ministerio de Justicia de Derechos Humanos</p>\n
CATEGORIES:General
URL;VALUE=URI:https://ejenopenal.pe/mc-events/visita-del-sr-rut-andia-chave
 z/?mc_id=215
END:VEVENT
END:VCALENDAR