BEGIN:VCALENDAR
VERSION:2.0
PRODID:spatie/icalendar-generator
DESCRIPTION:Events from EJE NO PENAL
X-WR-CALDESC:Events from EJE NO PENAL
REFRESH-INTERVAL;VALUE=DURATION:PT1440M
X-PUBLISHED-TTL:PT1440M
BEGIN:VTIMEZONE
TZID:Etc/GMT+5
BEGIN:STANDARD
DTSTART:20220214T103100Z
TZOFFSETFROM:-0500
TZOFFSETTO:-0500
END:STANDARD
END:VTIMEZONE
BEGIN:VTIMEZONE
TZID:UTC
BEGIN:STANDARD
DTSTART:20250725T113544Z
TZOFFSETFROM:+0000
TZOFFSETTO:+0000
END:STANDARD
END:VTIMEZONE
BEGIN:VEVENT
UID:322-267
DTSTAMP:20260421T113544Z
SUMMARY:Visita del Sr. RODRIGUEZ ALEGRE CESAR
LOCATION:EJE NO PENAL Jr. Roberto RamÍrez del Villar Nº 325  Lima Lima Co
 rpac
ORGANIZER;CN=ejejudiperulima:MAILTO:administracion@sig.pe
DTSTART;TZID=Etc/GMT+5:20221111T103100
DTEND;TZID=Etc/GMT+5:20221111T130600
X-ALT-DESC;FMTTYPE=TEXT/HTML:<p>Reunión con Supervisor de Proyectos TC<br />\nInstitución proveniente: TRIBUNAL CONSTITUCIONAL</p>\n
CATEGORIES:General
URL;VALUE=URI:https://ejenopenal.pe/mc-events/visita-del-sr-rodriguez-alegr
 e-cesar-4/?mc_id=322
END:VEVENT
END:VCALENDAR