BEGIN:VCALENDAR
VERSION:2.0
PRODID:spatie/icalendar-generator
DESCRIPTION:Events from EJE NO PENAL
X-WR-CALDESC:Events from EJE NO PENAL
REFRESH-INTERVAL;VALUE=DURATION:PT1440M
X-PUBLISHED-TTL:PT1440M
BEGIN:VTIMEZONE
TZID:Etc/GMT+5
BEGIN:STANDARD
DTSTART:20220207T151800Z
TZOFFSETFROM:-0500
TZOFFSETTO:-0500
END:STANDARD
END:VTIMEZONE
BEGIN:VTIMEZONE
TZID:UTC
BEGIN:STANDARD
DTSTART:20250725T163757Z
TZOFFSETFROM:+0000
TZOFFSETTO:+0000
END:STANDARD
END:VTIMEZONE
BEGIN:VEVENT
UID:317-262
DTSTAMP:20260421T163757Z
SUMMARY:Visita del Sr. QUISPE TORRES JORGE
LOCATION:EJE NO PENAL Jr. Roberto RamÍrez del Villar Nº 325  Lima Lima Co
 rpac
ORGANIZER;CN=ejejudiperulima:MAILTO:administracion@sig.pe
DTSTART;TZID=Etc/GMT+5:20221104T151800
DTEND;TZID=Etc/GMT+5:20221104T170000
X-ALT-DESC;FMTTYPE=TEXT/HTML:<p>Reunión Especialista en Adquisiciones<br />\nInstitución proveniente: MINISTERIO DE JUSTICIA Y DERECHOS HUMANOS</p>
 \n
CATEGORIES:General
URL;VALUE=URI:https://ejenopenal.pe/mc-events/visita-del-sr-quispe-torres-j
 orge-4/?mc_id=317
END:VEVENT
END:VCALENDAR