BEGIN:VCALENDAR
VERSION:2.0
PRODID:spatie/icalendar-generator
DESCRIPTION:Events from EJE NO PENAL
X-WR-CALDESC:Events from EJE NO PENAL
REFRESH-INTERVAL;VALUE=DURATION:PT1440M
X-PUBLISHED-TTL:PT1440M
BEGIN:VTIMEZONE
TZID:Etc/GMT+5
BEGIN:STANDARD
DTSTART:20211108T144800Z
TZOFFSETFROM:-0500
TZOFFSETTO:-0500
END:STANDARD
END:VTIMEZONE
BEGIN:VTIMEZONE
TZID:UTC
BEGIN:STANDARD
DTSTART:20250725T130255Z
TZOFFSETFROM:+0000
TZOFFSETTO:+0000
END:STANDARD
END:VTIMEZONE
BEGIN:VEVENT
UID:202-164
DTSTAMP:20260421T130255Z
SUMMARY:Visita del Sr. CESAR ALIAGA CABALLERO
LOCATION:EJE NO PENAL Jr. Roberto RamÍrez del Villar Nº 325  Lima Lima Co
 rpac
ORGANIZER;CN=ejejudiperulima:MAILTO:administracion@sig.pe
DTSTART;TZID=Etc/GMT+5:20220805T144800
DTEND;TZID=Etc/GMT+5:20220805T174200
X-ALT-DESC;FMTTYPE=TEXT/HTML:<p>Presencia notarial para apertura de sobre<b />\nInstitución proveniente: Notario Público</p>\n
CATEGORIES:General
URL;VALUE=URI:https://ejenopenal.pe/mc-events/visita-del-sr-cesar-aliaga-ca
 ballero/?mc_id=202
END:VEVENT
END:VCALENDAR