BEGIN:VCALENDAR
VERSION:2.0
PRODID:spatie/icalendar-generator
DESCRIPTION:Events from EJE NO PENAL
X-WR-CALDESC:Events from EJE NO PENAL
REFRESH-INTERVAL;VALUE=DURATION:PT1440M
X-PUBLISHED-TTL:PT1440M
BEGIN:VTIMEZONE
TZID:Etc/GMT+5
BEGIN:STANDARD
DTSTART:20211108T144400Z
TZOFFSETFROM:-0500
TZOFFSETTO:-0500
END:STANDARD
END:VTIMEZONE
BEGIN:VTIMEZONE
TZID:UTC
BEGIN:STANDARD
DTSTART:20250725T112658Z
TZOFFSETFROM:+0000
TZOFFSETTO:+0000
END:STANDARD
END:VTIMEZONE
BEGIN:VEVENT
UID:201-163
DTSTAMP:20260421T112658Z
SUMMARY:Visita del Sr. CARLOS PIZARRO ROCA
LOCATION:EJE NO PENAL Jr. Roberto RamÍrez del Villar Nº 325  Lima Lima Co
 rpac
ORGANIZER;CN=ejejudiperulima:MAILTO:administracion@sig.pe
DTSTART;TZID=Etc/GMT+5:20220805T144400
DTEND;TZID=Etc/GMT+5:20220805T145800
X-ALT-DESC;FMTTYPE=TEXT/HTML:<p>Reunión Directivos del MINJUSDH y Supervis
 or de Proyecto JNJ<br />\nInstitución proveniente: Junta Nacional de Just
 icia</p>\n
CATEGORIES:General
URL;VALUE=URI:https://ejenopenal.pe/mc-events/visita-del-sr-carlos-pizarro-
 roca-2/?mc_id=201
END:VEVENT
END:VCALENDAR