BEGIN:VCALENDAR
VERSION:2.0
PRODID:spatie/icalendar-generator
DESCRIPTION:Events from EJE NO PENAL
X-WR-CALDESC:Events from EJE NO PENAL
REFRESH-INTERVAL;VALUE=DURATION:PT1440M
X-PUBLISHED-TTL:PT1440M
BEGIN:VTIMEZONE
TZID:Etc/GMT+5
BEGIN:STANDARD
DTSTART:20211024T100000Z
TZOFFSETFROM:-0500
TZOFFSETTO:-0500
END:STANDARD
END:VTIMEZONE
BEGIN:VTIMEZONE
TZID:UTC
BEGIN:STANDARD
DTSTART:20250725T113118Z
TZOFFSETFROM:+0000
TZOFFSETTO:+0000
END:STANDARD
END:VTIMEZONE
BEGIN:VEVENT
UID:199-161
DTSTAMP:20260421T113118Z
SUMMARY:Visita del Sr. RAFAEL VILLON SUAREZ
LOCATION:EJE NO PENAL Jr. Roberto RamÍrez del Villar Nº 325  Lima Lima Co
 rpac
ORGANIZER;CN=ejejudiperulima:MAILTO:administracion@sig.pe
DTSTART;TZID=Etc/GMT+5:20220721T100000
DTEND;TZID=Etc/GMT+5:20220721T120000
X-ALT-DESC;FMTTYPE=TEXT/HTML:<p>Reunión con Especialista en Planificación
  y Presupuesto<br />\nInstitución proveniente: Poder Judicial</p>\n
CATEGORIES:General
URL;VALUE=URI:https://ejenopenal.pe/mc-events/visita-del-sr-rafael-villon-s
 uarez/?mc_id=199
END:VEVENT
END:VCALENDAR